Workbook
Name CTA_PRES: '[1]Clasificador Presupuestario'!$A$1:$C$593
Name Cta_Presp: '[2]Clasificador Presupuestario'!$A$1:$C$627
Name febrro2012: #REF!
Name imputacion: 'Prog 01'!$F:$F
Name matriz01: 'Prog 05'!$F$33:$U$60
Name matriz01: 'Prog 01'!$F$12:$V$191
Name matriz01.v2: 'Prog 01'!$B$8:$O$192
Name matriz02: 'Prog 02'!$F$19:$V$51
Name matriz03: 'Prog 03'!$F$26:$V$53
Name matriz2: 'Prog 02'!$F$19:$K$19
Name PROG_05_EJECUCIÓN_PRESUPUESTARIA_AL_28_DE_FEBRERO_DE_2018: #REF!
Name tablap01: 'Prog 01'!$F:$R

Sheet GRAFICOS
A1: 12 | B1: SUB | C1: (Todas)
A2: 13
A3: 14 | B3: Valores
A4: 15 | B4: Ejecución | C4: 3.2540826e+08
A5: 16 | B5: Saldo disponible. | C5: 1.0971553e+08
A6: 17 | B6: Saldo por ejecutar M$. | C6: 2740542
A7: 18
A8: 19
A9: 20
A10: 21
A11: 22
A12: 23
A13: 24
A14: 25
A15: 26
A16: 27
A17: 28
A18: 1
... A23: 24
B28: SUB | C28: PROGRAMA 01 - SUBSECRETARIA
B30: Valores
B31: Ejecución | C31: 56897625
B32: Saldo disponible. | C32: 7586594.5
B33: Saldo por ejecutar M$. | C33: 684378.78
B55: SUB | C55: PROGRAMA 02 - SUBNACIONAL
B57: Valores
B58: Ejecución | C58: 2862021
B59: Saldo disponible. | C59: 2879278.2
B60: Saldo por ejecutar M$. | C60: 1240975.9
B83: SUB | C83: PROGRAMA 03 - DESARROLLO LOCAL
B85: Valores
B86: Ejecución | C86: 2.382507e+08
B87: Saldo disponible. | C87: 91186730
B88: Saldo por ejecutar M$. | C88: 815187.37
B111: SUB | C111: PROGRAMA 05 - TRANSFERENCIA GORES
B113: Valores
B114: Suma de Ejecución al M$ | C114: 27397914
B115: Saldo disponible. | C115: 8062925
B140: Etiquetas de fila | C140: % Ejecución 2026 | D140: % Ejecución 2025
B141: PROGRAMA 01 - SUBSECRETARIA | C141: 0.87308346 | D141: 0.82982617
...

Sheet CONSOLIDADO
B4: CONSOLIDADO POR SUBTÍTULO
B5: CLASIFICACIÓN PRESUPUESTARIA | H5: MOVIMIENTO AÑO 2026 | T5: MOVIMIENTO AÑO 2025
H6: [ 1 ] | I6: [ 2 ] | J6: [ 3 ] | K6: [ 3 / 2 ] | L6: [ 4 ] | M6: [ 4 / 2 ] | N6: [ 5 ] | O6: [ 5 / 2 ] | P6: [ 6 ] | Q6: [ 6 / 3 ] | R6: [ 7 ] | S6: [ 7 / 3 ] | T6: [ 1 ] | U6: [ 2 ] | V6: [ 2/1 ]
H7: Presupuesto Inicial 2026 M$ | I7: Presupuesto Vigente 2026 M$ | J7: Ejecución al 30/09/2026 M$ | K7: % de Ejecución 30/09/2026 M$ | L7: Presupuesto comprometido M$ | M7: % Presupuesto comprometido M$ | N7: Saldo disponible M$ | O7: % Saldo disponible | P7: Efectivo M$ | Q7: Efectivo % | R7: Deuda Flotante M$ | S7: Deuda Flotante % | T7: Presupuesto Vigente al 30/09/2025 M$ | U7: Ejecución al 30/09/2025 M$ | V7: % Ejecución al 30/09/2025 M$
B8: Subtitulo | C8: Item. | D8: Asig. | E8: Sub | F8: . | G8: nombre | H8: Presupuesto Inicial 2026 M$ | I8: Presupuesto Vigente 2026 M$ | J8: Ejecución al M$ | K8: % de Ejecución M$ 2026 | L8: Presupuesto comprometido M$ | M8: % Presupuesto comprometido M$ | N8: Saldo disponible M$ | O8: % Saldo disponible | P8: Efectivo M$ | Q8: Efectivo % | R8: Deuda Flotante M$ | S8: Deuda Flotante % | T8: Presupuesto Vigente al M$ | U8: Ejecución al M$ | V8: % Ejecución al M$ 2025
B9: Sub. | C9: Item. | D9: Asig. | E9: Sub | F9: . | G9: CONSOLIDADO PROGRAMAS | H9: =+H10+H82+H152+H159+H200+H207+H213+H215+H265+H270 -> 3.7184675e+08 | I9: =+I10+I82+I152+I159+I200+I207+I213+I215+I265+I270 -> 4.3786433e+08 | J9: =+J10+J82+J152+J159+J200+J207+J213+J215+J265+J270 -> 3.2540826e+08 | K9: =IFERROR(J9/I9,"0%") -> 0.74317143 | L9: =+L10+L82+L152+L159+L200+L207+L213+L215+L265+L270 -> 3.281488e+08 | M9: =+IFERROR(L9/I9,0%) -> 0.74943031 | N9: =+N10+N82+N152+N159+N200+N207+N213+N215+N265+N270 -> 1.0971553e+08 | O9: =+IFERROR(N9/I9,0%) -> 0.25056969 | P9: =+P10+P82+P152+P159+P200+P207+P213+P215+P265+P270 -> 3.0602718e+08 | Q9: =IFERROR(+P9/J9,0) -> 0.94044071 | R9: =+R10+R82+R152+R159+R200+R207+R213+R215+R265+R270 -> 19381085 | S9: =+IFERROR(R9/J9,"0%") -> 0.059559291 | T9: =+T10+T82+T152+T159+T200++T207+T213+T215+T265+T270 -> 4.6090193e+08 | U9: =+U10+U82+U159+U200+U207+U215+U213+U265+U270+U152 -> 2.9280436e+08 | V9: =IFERROR(U9/T9,"0%") -> 0.63528559
B10: 21. | G10: GASTOS EN PERSONAL | H10: =+H11+H42+H74 -> 19882145 | I10: =+I11+I42+I74 -> 19466574 | J10: =+J11+J42+J74 -> 14924799 | K10: =IFERROR(J10/I10,"0%") -> 0.76668854 | L10: =+L11+L42+L74 -> 14924799 | M10: =+IFERROR(L10/I10,0%) -> 0.76668854 | N10: =+N11+N42+N74 -> 4541774.8 | O10: =+IFERROR(N10/I10,0%) -> 0.23331146 | P10: =+P11+P42+P74 -> 14438963 | Q10: =IFERROR(+P10/J10,0) -> 0.96744772 | R10: =+R11+R42+R74 -> 485836.2 | S10: =+IFERROR(R10/J10,"0%") -> 0.032552277 | T10: =+T11+T42+T74 -> 20446941 | U10: =+U11+U42+U74 -> 15756488 | V10: =IFERROR(U10/T10,0%) -> 0.77060368
C11: 01. | G11: Personal de Planta | H11: =+H12+H26+H29+H33+H38 -> 648450 | I11: =+I12+I26+I29+I33+I38 -> 651738.75 | J11: =+J12+J26+J29+J33+J38 -> 417527.04 | K11: =IFERROR(J11/I11,"0%") -> 0.64063559 | L11: =+L12+L26+L29+L33+L38 -> 417527.04 | M11: =+IFERROR(L11/I11,0%) -> 0.64063559 | N11: =+N12+N26+N29+N33+N38 -> 234211.71 | O11: =+IFERROR(N11/I11,0%) -> 0.35936441 | P11: =+P12+P26+P29+P33+P38 -> 397231.17 | Q11: =IFERROR(+P11/J11,0) -> 0.95139029 | R11: =+R12+R26+R29+R33+R38 -> 20295.868 | S11: =+IFERROR(R11/J11,"0%") -> 0.048609709 | T11: =+T12+T26+T29+T33+T38 -> 828278.07 | U11: =+U12+U26+U29+U33+U38 -> 510627.34 | V11: =IFERROR(U11/T11,0%) -> 0.61649264
D12: 001. | G12: Sueldos y Sobresueldos | H12: =SUM(H13:H25) -> 507000 | I12: =SUM(I13:I25) -> 506988.43 | J12: =SUM(J13:J25) -> 326725.13 | K12: =IFERROR(J12/I12,"0%") -> 0.64444298 | L12: =SUM(L13:L25) -> 326725.13 | M12: =+IFERROR(L12/I12,0%) -> 0.64444298 | N12: =SUM(N13:N25) -> 180263.29 | O12: =+IFERROR(N12/I12,0%) -> 0.35555702 | P12: =SUM(P13:P25) -> 311318.7 | Q12: =IFERROR(+P12/J12,0) -> 0.95284588 | R12: =SUM(R13:R25) -> 15406.436 | S12: =+IFERROR(R12/J12,"0%") -> 0.047154119 | T12: =SUM(T13:T25) -> 648488.72 | U12: =SUM(U13:U25) -> 396930.86 | V12: =IFERROR(U12/T12,0%) -> 0.612086
E13: 1 | F13: =+CONCATENATE($B$10,"",$C$11,"",$D$12,"00",E13) -> 21.01.001.001 | G13: Sueldo Bases | H13: =+VLOOKUP(F13,matriz01,3,FALSE) -> 90500 | I13: =+VLOOKUP($F$13,matriz01,4,FALSE) -> 90488.427 | J13: =+VLOOKUP(F13,matriz01,5,FALSE) -> 69962.266 | K13: =IFERROR(J13/I13,"0%") -> 0.77316258 | L13: =INDEX(tablap01,MATCH(F13,imputacion,0),7) -> 69962.266 | M13: =+IFERROR(L13/I13,0%) -> 0.77316258 | N13: =INDEX(tablap01,MATCH(F13,imputacion,0),9) -> 20526.161 | O13: =+IFERROR(N13/I13,0%) -> 0.22683742 | P13: =INDEX(tablap01,MATCH(F13,imputacion,0),11) -> 67725.28 | Q13: =IFERROR(+P13/J13,0) -> 0.96802582 | R13: =INDEX(tablap01,MATCH(F13,imputacion,0),13) -> 2236.986 | S13: =+IFERROR(R13/J13,"0%") -> 0.031974179 | T13: =+'Prog 01'!T12 -> 119607.83 | U13: =+'Prog 01'!U12 -> 70965.95 | V13: =IFERROR(U13/T13,0%) -> 0.59332194
E14: 2 | F14: =+CONCATENATE($B$10,"",$C$11,"",$D$12,"00",E14) -> 21.01.001.002 | G14: Asignación de Antigüedad | H14: =+VLOOKUP(F14,matriz01,3,FALSE) -> 10500 | I14: =+VLOOKUP(F14,matriz01,4,FALSE) -> 10500 | J14: =+VLOOKUP(F14,matriz01,5,FALSE) -> 6722.188 | K14: =IFERROR(J14/I14,"0%") -> 0.64020838 | L14: =INDEX(tablap01,MATCH(F14,imputacion,0),7) -> 6722.188 | M14: =+IFERROR(L14/I14,0%) -> 0.64020838 | N14: =INDEX(tablap01,MATCH(F14,imputacion,0),9) -> 3777.812 | O14: =+IFERROR(N14/I14,0%) -> 0.35979162 | P14: =INDEX(tablap01,MATCH(F14,imputacion,0),11) -> 6613.648 | Q14: =IFERROR(+P14/J14,0) -> 0.98385347 | R14: =INDEX(tablap01,MATCH(F14,imputacion,0),13) -> 108.54 | S14: =+IFERROR(R14/J14,"0%") -> 0.016146528 | T14: =+'Prog 01'!T13 -> 16571.953 | U14: =+'Prog 01'!U13 -> 8158.1587 | V14: =IFERROR(U14/T14,0%) -> 0.49228711
E15: 3 | F15: =+CONCATENATE($B$10,"",$C$11,"",$D$12,"00",E15) -> 21.01.001.003 | G15: Asignación Profesional | H15: =+VLOOKUP(F15,matriz01,3,FALSE) -> 66600 | I15: =+VLOOKUP(F15,matriz01,4,FALSE) -> 66600 | J15: =+VLOOKUP(F15,matriz01,5,FALSE) -> 45358.674 | K15: =IFERROR(J15/I15,"0%") -> 0.68106117 | L15: =INDEX(tablap01,MATCH(F15,imputacion,0),7) -> 45358.674 | M15: =+IFERROR(L15/I15,0%) -> 0.68106117 | N15: =INDEX(tablap01,MATCH(F15,imputacion,0),9) -> 21241.326 | O15: =+IFERROR(N15/I15,0%) -> 0.31893883 | P15: =INDEX(tablap01,MATCH(F15,imputacion,0),11) -> 43687.484 | Q15: =IFERROR(+P15/J15,0) -> 0.96315611 | R15: =INDEX(tablap01,MATCH(F15,imputacion,0),13) -> 1671.19 | S15: =+IFERROR(R15/J15,"0%") -> 0.03684389 | T15: =+'Prog 01'!T14 -> 87788.758 | U15: =+'Prog 01'!U14 -> 52320.6 | V15: =IFERROR(U15/T15,0%) -> 0.59598292
E16: 4 | F16: =+CONCATENATE($B$10,"",$C$11,"",$D$12,"00",E16) -> 21.01.001.004 | G16: Asignación de Zona | H16: =+VLOOKUP(F16,matriz01,3,FALSE) -> 0 | I16: =+VLOOKUP(F16,matriz01,4,FALSE) -> 0 | J16: =+VLOOKUP(F16,matriz01,5,FALSE) -> 0 | K16: =IFERROR(J16/I16,"0%") -> 0% | L16: =INDEX(tablap01,MATCH(F16,imputacion,0),7) -> 0 | M16: =+IFERROR(L16/I16,0%) -> 0 | N16: =INDEX(tablap01,MATCH(F16,imputacion,0),9) -> 0 | O16: =+IFERROR(N16/I16,0%) -> 0 | P16: =INDEX(tablap01,MATCH(F16,imputacion,0),11) -> 0 | Q16: =IFERROR(+P16/J16,0) -> 0 | R16: =INDEX(tablap01,MATCH(F16,imputacion,0),13) -> 0 | S16: =+IFERROR(R16/J16,"0%") -> 0% | T16: =+'Prog 01'!T15 -> 168.08908 | U16: =+'Prog 01'!U15 -> 0 | V16: =IFERROR(U16/T16,0%) -> 0
E17: 7 | F17: =+CONCATENATE($B$10,"",$C$11,"",$D$12,"00",E17) -> 21.01.001.007 | G17: Asig. Del DL N° 3,551, de 1981 | H17: =+VLOOKUP(F17,matriz01,3,FALSE) -> 10300 | I17: =+VLOOKUP(F17,matriz01,4,FALSE) -> 10300 | J17: =+VLOOKUP(F17,matriz01,5,FALSE) -> 7918.302 | K17: =IFERROR(J17/I17,"0%") -> 0.76876718 | L17: =INDEX(tablap01,MATCH(F17,imputacion,0),7) -> 7918.302 | M17: =+IFERROR(L17/I17,0%) -> 0.76876718 | N17: =INDEX(tablap01,MATCH(F17,imputacion,0),9) -> 2381.698 | O17: =+IFERROR(N17/I17,0%) -> 0.23123282 | P17: =INDEX(tablap01,MATCH(F17,imputacion,0),11) -> 7704.328 | Q17: =IFERROR(+P17/J17,0) -> 0.97297729 | R17: =INDEX(tablap01,MATCH(F17,imputacion,0),13) -> 213.974 | S17: =+IFERROR(R17/J17,"0%") -> 0.027022713 | T17: =+'Prog 01'!T16 -> 10089.819 | U17: =+'Prog 01'!U16 -> 7914.287 | V17: =IFERROR(U17/T17,0%) -> 0.78438347
E18: 12 | F18: =+CONCATENATE($B$10,"",$C$11,"",$D$12,"0",E18) -> 21.01.001.012 | G18: Gastos de Representación | H18: =+VLOOKUP(F18,matriz01,3,FALSE) -> 2300 | I18: =+VLOOKUP(F18,matriz01,4,FALSE) -> 2300 | J18: =+VLOOKUP(F18,matriz01,5,FALSE) -> 2107.354 | K18: =IFERROR(J18/I18,"0%") -> 0.91624087 | L18: =INDEX(tablap01,MATCH(F18,imputacion,0),7) -> 2107.354 | M18: =+IFERROR(L18/I18,0%) -> 0.91624087 | N18: =INDEX(tablap01,MATCH(F18,imputacion,0),9) -> 192.646 | O18: =+IFERROR(N18/I18,0%) -> 0.08375913 | P18: =INDEX(tablap01,MATCH(F18,imputacion,0),11) -> 2083.682 | Q18: =IFERROR(+P18/J18,0) -> 0.98876696 | R18: =INDEX(tablap01,MATCH(F18,imputacion,0),13) -> 23.672 | S18: =+IFERROR(R18/J18,"0%") -> 0.011233044 | T18: =+'Prog 01'!T17 -> 2293.8502 | U18: =+'Prog 01'!U17 -> 1725.7548 | V18: =IFERROR(U18/T18,0%) -> 0.75233979
E19: 13 | F19: =+CONCATENATE($B$10,"",$C$11,"",$D$12,"0",E19) -> 21.01.001.013 | G19: Asignación de Dirección Superior | H19: =+VLOOKUP(F19,matriz01,3,FALSE) -> 53400 | I19: =+VLOOKUP(F19,matriz01,4,FALSE) -> 53400 | J19: =+VLOOKUP(F19,matriz01,5,FALSE) -> 10175.332 | K19: =IFERROR(J19/I19,"0%") -> 0.19054929 | L19: =INDEX(tablap01,MATCH(F19,imputacion,0),7) -> 10175.332 | M19: =+IFERROR(L19/I19,0%) -> 0.19054929 | N19: =INDEX(tablap01,MATCH(F19,imputacion,0),9) -> 43224.668 | O19: =+IFERROR(N19/I19,0%) -> 0.80945071 | P19: =INDEX(tablap01,MATCH(F19,imputacion,0),11) -> 10175.332 | Q19: =IFERROR(+P19/J19,0) -> 1 | R19: =INDEX(tablap01,MATCH(F19,imputacion,0),13) -> 0 | S19: =+IFERROR(R19/J19,"0%") -> 0 | T19: =+'Prog 01'!T18 -> 54905.072 | U19: =+'Prog 01'!U18 -> 41224.815 | V19: =IFERROR(U19/T19,0%) -> 0.75083802
E20: 14 | F20: =+CONCATENATE($B$10,"",$C$11,"",$D$12,"0",E20) -> 21.01.001.014 | G20: Asignaciones Compensatorias | H20: =+VLOOKUP(F20,matriz01,3,FALSE) -> 61400 | I20: =+VLOOKUP(F20,matriz01,4,FALSE) -> 61400 | J20: =+VLOOKUP(F20,matriz01,5,FALSE) -> 42467.982 | K20: =IFERROR(J20/I20,"0%") -> 0.69166094 | L20: =INDEX(tablap01,MATCH(F20,imputacion,0),7) -> 42467.982 | M20: =+IFERROR(L20/I20,0%) -> 0.69166094 | N20: =INDEX(tablap01,MATCH(F20,imputacion,0),9) -> 18932.018 | O20: =+IFERROR(N20/I20,0%) -> 0.30833906 | P20: =INDEX(tablap01,MATCH(F20,imputacion,0),11) -> 40778.174 | Q20: =IFERROR(+P20/J20,0) -> 0.96020984 | R20: =INDEX(tablap01,MATCH(F20,imputacion,0),13) -> 1689.808 | S20: =+IFERROR(R20/J20,"0%") -> 0.039790165 | T20: =+'Prog 01'!T19 -> 80662.552 | U20: =+'Prog 01'!U19 -> 48042.683 | V20: =IFERROR(U20/T20,0%) -> 0.59560083
E21: 15 | F21: =+CONCATENATE($B$10,"",$C$11,"",$D$12,"0",E21) -> 21.01.001.015 | G21: Asignaciones Sustitutivas | H21: =+VLOOKUP(F21,matriz01,3,FALSE) -> 150800 | I21: =+VLOOKUP(F21,matriz01,4,FALSE) -> 150800 | J21: =+VLOOKUP(F21,matriz01,5,FALSE) -> 99573.876 | K21: =IFERROR(J21/I21,"0%") -> 0.66030422 | L21: =INDEX(tablap01,MATCH(F21,imputacion,0),7) -> 99573.876 | M21: =+IFERROR(L21/I21,0%) -> 0.66030422 | N21: =INDEX(tablap01,MATCH(F21,imputacion,0),9) -> 51226.124 | O21: =+IFERROR(N21/I21,0%) -> 0.33969578 | P21: =INDEX(tablap01,MATCH(F21,imputacion,0),11) -> 95147.517 | Q21: =IFERROR(+P21/J21,0) -> 0.95554699 | R21: =INDEX(tablap01,MATCH(F21,imputacion,0),13) -> 4426.359 | S21: =+IFERROR(R21/J21,"0%") -> 0.044453015 | T21: =+'Prog 01'!T20 -> 199573.37 | U21: =+'Prog 01'!U20 -> 118523.45 | V21: =IFERROR(U21/T21,0%) -> 0.59388412
E22: 22 | F22: =+CONCATENATE($B$10,"",$C$11,"",$D$12,"0",E22) -> 21.01.001.022 | G22: Componente Base Asignación de Desempeño | H22: =+VLOOKUP(F22,matriz01,3,FALSE) -> 49100 | I22: =+VLOOKUP(F22,matriz01,4,FALSE) -> 49100 | J22: =+VLOOKUP(F22,matriz01,5,FALSE) -> 32672.48 | K22: =IFERROR(J22/I22,"0%") -> 0.66542729 | L22: =INDEX(tablap01,MATCH(F22,imputacion,0),7) -> 32672.48 | M22: =+IFERROR(L22/I22,0%) -> 0.66542729 | N22: =INDEX(tablap01,MATCH(F22,imputacion,0),9) -> 16427.52 | O22: =+IFERROR(N22/I22,0%) -> 0.33457271 | P22: =INDEX(tablap01,MATCH(F22,imputacion,0),11) -> 27931.799 | Q22: =IFERROR(+P22/J22,0) -> 0.85490293 | R22: =INDEX(tablap01,MATCH(F22,imputacion,0),13) -> 4740.681 | S22: =+IFERROR(R22/J22,"0%") -> 0.14509707 | T22: =+'Prog 01'!T21 -> 64420.345 | U22: =+'Prog 01'!U21 -> 38444.701 | V22: =IFERROR(U22/T22,0%) -> 0.59677888
E23: 39 | F23: =+CONCATENATE($B$10,"",$C$11,"",$D$12,"0",E23) -> 21.01.001.039 | G23: Asignación de Responsabilidad Superior | H23: =+VLOOKUP(F23,matriz01,3,FALSE) -> 12100 | I23: =+VLOOKUP(F23,matriz01,4,FALSE) -> 12100 | J23: =+VLOOKUP(F23,matriz01,5,FALSE) -> 9766.68 | K23: =IFERROR(J23/I23,"0%") -> 0.80716364 | L23: =INDEX(tablap01,MATCH(F23,imputacion,0),7) -> 9766.68 | M23: =+IFERROR(L23/I23,0%) -> 0.80716364 | N23: =INDEX(tablap01,MATCH(F23,imputacion,0),9) -> 2333.32 | O23: =+IFERROR(N23/I23,0%) -> 0.19283636 | P23: =INDEX(tablap01,MATCH(F23,imputacion,0),11) -> 9471.454 | Q23: =IFERROR(+P23/J23,0) -> 0.96977212 | R23: =INDEX(tablap01,MATCH(F23,imputacion,0),13) -> 295.226 | S23: =+IFERROR(R23/J23,"0%") -> 0.030227877 | T23: =+'Prog 01'!T22 -> 12407.08 | U23: =+'Prog 01'!U22 -> 9610.4583 | V23: =IFERROR(U23/T23,0%) -> 0.7745947
E24: 998 | F24: =+CONCATENATE($B$10,"",$C$11,"",$D$12,"0",E24) -> 21.01.001.0998 | G24: Aplicación inciso 5to del Artículo 1 de la Ley N° | H24: =+'Prog 01'!H23 -> 0 | I24: =+VLOOKUP(F24,matriz01,4,FALSE) -> 0 | J24: =+'Prog 01'!J23 -> 0 | K24: =IFERROR(J24/I24,"0%") -> 0% | L24: =INDEX(tablap01,MATCH(F24,imputacion,0),7) -> 0 | M24: =+IFERROR(L24/I24,0%) -> 0 | N24: =INDEX(tablap01,MATCH(F24,imputacion,0),9) -> 0 | O24: =+IFERROR(N24/I24,0%) -> 0 | P24: =INDEX(tablap01,MATCH(F24,imputacion,0),11) -> 0 | Q24: =IFERROR(+P24/J24,0) -> 0 | R24: =INDEX(tablap01,MATCH(F24,imputacion,0),13) -> 0 | S24: =+IFERROR(R24/J24,"0%") -> 0% | T24: =+'Prog 01'!T23 -> 0 | U24: =+'Prog 01'!U23 -> 0 | V24: =IFERROR(U24/T24,0%) -> 0
E25: 999 | F25: =+CONCATENATE($B$10,"",$C$11,"",$D$12,"0",E25) -> 21.01.001.0999 | G25: Otras Asignaciones | H25: 0 | I25: =+VLOOKUP(F25,matriz01,4,FALSE) -> 0 | J25: =+VLOOKUP(F25,matriz01,5,FALSE) -> 0 | K25: =IFERROR(J25/I25,"0%") -> 0% | L25: =+'Prog 01'!L24 -> 0 | M25: =+IFERROR(L25/I25,0%) -> 0 | N25: =INDEX(tablap01,MATCH(F25,imputacion,0),9) -> 0 | O25: =+IFERROR(N25/I25,0%) -> 0 | P25: =INDEX(tablap01,MATCH(F25,imputacion,0),11) -> 0 | Q25: =IFERROR(+P25/J25,0) -> 0 | R25: =INDEX(tablap01,MATCH(F25,imputacion,0),13) -> 0 | S25: =+IFERROR(R25/J25,"0%") -> 0% | T25: =+'Prog 01'!T24 -> 0 | U25: =+'Prog 01'!U24 -> 0 | V25: =IFERROR(U25/T25,0%) -> 0
D26: 002. | G26: Aportes del Empleador | H26: =SUM(H27:H28) -> 15300 | I26: =SUM(I27:I28) -> 15300 | J26: =SUM(J27:J28) -> 11372.291 | K26: =IFERROR(J26/I26,"0%") -> 0.74328699 | L26: =SUM(L27:L28) -> 11372.291 | M26: =+IFERROR(L26/I26,0%) -> 0.74328699 | N26: =SUM(N27:N28) -> 3927.709 | O26: =+IFERROR(N26/I26,0%) -> 0.25671301 | P26: =+P27+P28 -> 10949.895 | Q26: =IFERROR(+P26/J26,0) -> 0.96285744 | R26: =SUM(R27:R28) -> 422.396 | S26: =+IFERROR(R26/J26,"0%") -> 0.03714256 | T26: =SUM(T27:T28) -> 20146.091 | U26: =SUM(U27:U28) -> 12005.652 | V26: =IFERROR(U26/T26,0%) -> 0.5959296
E27: 1 | F27: =+CONCATENATE($B$10,"",$C$11,"",$D$26,"00",E27) -> 21.01.002.001 | G27: A Servicios de Bienestar | H27: =+VLOOKUP(F27,matriz01,3,FALSE) -> 1300 | I27: =+VLOOKUP(F27,matriz01,4,FALSE) -> 1300 | J27: =+VLOOKUP(F27,matriz01,5,FALSE) -> 828.072 | K27: =IFERROR(J27/I27,"0%") -> 0.63697846 | L27: =INDEX(tablap01,MATCH(F27,imputacion,0),7) -> 828.072 | M27: =+IFERROR(L27/I27,0%) -> 0.63697846 | N27: =INDEX(tablap01,MATCH(F27,imputacion,0),9) -> 471.928 | O27: =+IFERROR(N27/I27,0%) -> 0.36302154 | P27: =INDEX(tablap01,MATCH(F27,imputacion,0),11) -> 718.704 | Q27: =IFERROR(+P27/J27,0) -> 0.86792453 | R27: =INDEX(tablap01,MATCH(F27,imputacion,0),13) -> 109.368 | S27: =+IFERROR(R27/J27,"0%") -> 0.13207547 | T27: =+'Prog 01'!T26 -> 1719.3111 | U27: =+'Prog 01'!U26 -> 975.78892 | V27: =IFERROR(U27/T27,0%) -> 0.56754647
E28: 2 | F28: =+CONCATENATE($B$10,"",$C$11,"",$D$26,"00",E28) -> 21.01.002.002 | G28: Otras Cotizaciones Previsionales | H28: =+VLOOKUP(F28,matriz01,3,FALSE) -> 14000 | I28: =+VLOOKUP(F28,matriz01,4,FALSE) -> 14000 | J28: =+VLOOKUP(F28,matriz01,5,FALSE) -> 10544.219 | K28: =IFERROR(J28/I28,"0%") -> 0.7531585 | L28: =INDEX(tablap01,MATCH(F28,imputacion,0),7) -> 10544.219 | M28: =+IFERROR(L28/I28,0%) -> 0.7531585 | N28: =INDEX(tablap01,MATCH(F28,imputacion,0),9) -> 3455.781 | O28: =+IFERROR(N28/I28,0%) -> 0.2468415 | P28: =INDEX(tablap01,MATCH(F28,imputacion,0),11) -> 10231.191 | Q28: =IFERROR(+P28/J28,0) -> 0.97031283 | R28: =INDEX(tablap01,MATCH(F28,imputacion,0),13) -> 313.028 | S28: =+IFERROR(R28/J28,"0%") -> 0.029687168 | T28: =+'Prog 01'!T27 -> 18426.779 | U28: =+'Prog 01'!U27 -> 11029.863 | V28: =IFERROR(U28/T28,0%) -> 0.59857789
D29: 003. | G29: Asignaciones por Desempeño | H29: =SUM(H30:H31) -> 45000 | I29: =SUM(I30:I32) -> 45000 | J29: =SUM(J30:J32) -> 27147.618 | K29: =IFERROR(J29/I29,"0%") -> 0.6032804 | L29: =SUM(L30:L32) -> 27147.618 | M29: =+IFERROR(L29/I29,0%) -> 0.6032804 | N29: =SUM(N30:N32) -> 17852.382 | O29: =+IFERROR(N29/I29,0%) -> 0.3967196 | P29: =SUM(P30:P32) -> 24357.34 | Q29: =IFERROR(+P29/J29,0) -> 0.89721831 | R29: =SUM(R30:R32) -> 2790.278 | S29: =+IFERROR(R29/J29,"0%") -> 0.10278169 | T29: =SUM(T30:T32) -> 58374.993 | U29: =SUM(U30:U32) -> 35505.754 | V29: =IFERROR(U29/T29,0%) -> 0.60823569
E30: 1 | F30: =+CONCATENATE($B$10,"",$C$11,"",$D$29,"00",E30) -> 21.01.003.001 | G30: Desempeño Institucional | H30: =+VLOOKUP(F30,matriz01,3,FALSE) -> 23400 | I30: =+VLOOKUP(F30,matriz01,4,FALSE) -> 23400 | J30: =+VLOOKUP(F30,matriz01,5,FALSE) -> 16309.828 | K30: =IFERROR(J30/I30,"0%") -> 0.6970012 | L30: =INDEX(tablap01,MATCH(F30,imputacion,0),7) -> 16309.828 | M30: =+IFERROR(L30/I30,0%) -> 0.6970012 | N30: =INDEX(tablap01,MATCH(F30,imputacion,0),9) -> 7090.172 | O30: =+IFERROR(N30/I30,0%) -> 0.3029988 | P30: =INDEX(tablap01,MATCH(F30,imputacion,0),11) -> 14426.004 | Q30: =IFERROR(+P30/J30,0) -> 0.88449762 | R30: =INDEX(tablap01,MATCH(F30,imputacion,0),13) -> 1883.824 | S30: =+IFERROR(R30/J30,"0%") -> 0.11550238 | T30: =+'Prog 01'!T29 -> 31123.754 | U30: =+'Prog 01'!U29 -> 18345.026 | V30: =IFERROR(U30/T30,0%) -> 0.58942204
E31: 2 | F31: =+CONCATENATE($B$10,"",$C$11,"",$D$29,"00",E31) -> 21.01.003.002 | G31: Desempeño Colectivo | H31: =+VLOOKUP(F31,matriz01,3,FALSE) -> 21600 | I31: =+VLOOKUP(F31,matriz01,4,FALSE) -> 21600 | J31: =+VLOOKUP(F31,matriz01,5,FALSE) -> 10837.79 | K31: =IFERROR(J31/I31,"0%") -> 0.50174954 | L31: =INDEX(tablap01,MATCH(F31,imputacion,0),7) -> 10837.79 | M31: =+IFERROR(L31/I31,0%) -> 0.50174954 | N31: =INDEX(tablap01,MATCH(F31,imputacion,0),9) -> 10762.21 | O31: =+IFERROR(N31/I31,0%) -> 0.49825046 | P31: =INDEX(tablap01,MATCH(F31,imputacion,0),11) -> 9931.336 | Q31: =IFERROR(+P31/J31,0) -> 0.91636173 | R31: =INDEX(tablap01,MATCH(F31,imputacion,0),13) -> 906.454 | S31: =+IFERROR(R31/J31,"0%") -> 0.083638269 | T31: =+'Prog 01'!T30 -> 27251.239 | U31: =+'Prog 01'!U30 -> 17160.728 | V31: =IFERROR(U31/T31,0%) -> 0.62972284
E32: 3 | F32: =+CONCATENATE($B$10,"",$C$11,"",$D$29,"00",E32) -> 21.01.003.003 | G32: Desempeño Individual | H32: 0 | I32: =+VLOOKUP(F32,matriz01,4,FALSE) -> 0 | J32: =+VLOOKUP(F32,matriz01,5,FALSE) -> 0 | K32: =IFERROR(J32/I32,"0%") -> 0% | L32: 0 | M32: =+IFERROR(L32/I32,0%) -> 0 | N32: =INDEX(tablap01,MATCH(F32,imputacion,0),9) -> 0 | O32: =+IFERROR(N32/I32,0%) -> 0 | P32: =INDEX(tablap01,MATCH(F32,imputacion,0),11) -> 0 | Q32: =IFERROR(+P32/J32,0) -> 0 | R32: =INDEX(tablap01,MATCH(F32,imputacion,0),13) -> 0 | S32: =+IFERROR(R32/J32,"0%") -> 0% | T32: =+'Prog 01'!T31 -> 0 | U32: =+'Prog 01'!U31 -> 0 | V32: =IFERROR(U32/T32,0%) -> 0
D33: 004. | G33: Remuneraciones Variables | H33: =SUM(H34:H37) -> 80800 | I33: =SUM(I34:I37) -> 83660.789 | J33: =SUM(J34:J37) -> 51842.464 | K33: =IFERROR(J33/I33,"0%") -> 0.61967458 | L33: =SUM(L34:L37) -> 51842.464 | M33: =+IFERROR(L33/I33,0%) -> 0.61967458 | N33: =SUM(N34:N37) -> 31818.325 | O33: =+IFERROR(N33/I33,0%) -> 0.38032542 | P33: =SUM(P34:P37) -> 50175.71 | Q33: =IFERROR(+P33/J33,0) -> 0.96784964 | R33: =SUM(R34:R37) -> 1666.754 | S33: =+IFERROR(R33/J33,"0%") -> 0.032150362 | T33: =SUM(T34:T37) -> 99999.575 | U33: =SUM(U34:U37) -> 65385.938 | V33: =IFERROR(U33/T33,0%) -> 0.65386216
E34: 4 | F34: =+CONCATENATE($B$10,"",$C$11,"",$D$33,"00",E34) -> 21.01.004.004 | G34: Asignación por Desempeño de Funciones Críticas | H34: =+VLOOKUP(F34,matriz01,3,FALSE) -> 75200 | I34: =+VLOOKUP(F34,matriz01,4,FALSE) -> 75200 | J34: =+VLOOKUP(F34,matriz01,5,FALSE) -> 45469.042 | K34: =IFERROR(J34/I34,"0%") -> 0.60464152 | L34: =INDEX(tablap01,MATCH(F34,imputacion,0),7) -> 45469.042 | M34: =+IFERROR(L34/I34,0%) -> 0.60464152 | N34: =INDEX(tablap01,MATCH(F34,imputacion,0),9) -> 29730.958 | O34: =+IFERROR(N34/I34,0%) -> 0.39535848 | P34: =INDEX(tablap01,MATCH(F34,imputacion,0),11) -> 43802.288 | Q34: =IFERROR(+P34/J34,0) -> 0.9633431 | R34: =INDEX(tablap01,MATCH(F34,imputacion,0),13) -> 1666.754 | S34: =+IFERROR(R34/J34,"0%") -> 0.036656897 | T34: =+'Prog 01'!T33 -> 92572.682 | U34: =+'Prog 01'!U33 -> 59747.273 | V34: =IFERROR(U34/T34,0%) -> 0.64540933
E35: 5 | F35: =+CONCATENATE($B$10,"",$C$11,"",$D$33,"00",E35) -> 21.01.004.005 | G35: Trabajos Extraordinarios | H35: =+VLOOKUP(F35,matriz01,3,FALSE) -> 600 | I35: =+VLOOKUP(F35,matriz01,4,FALSE) -> 600 | J35: =+VLOOKUP(F35,matriz01,5,FALSE) -> 37.182 | K35: =IFERROR(J35/I35,"0%") -> 0.06197 | L35: =INDEX(tablap01,MATCH(F35,imputacion,0),7) -> 37.182 | M35: =+IFERROR(L35/I35,0%) -> 0.06197 | N35: =INDEX(tablap01,MATCH(F35,imputacion,0),9) -> 562.818 | O35: =+IFERROR(N35/I35,0%) -> 0.93803 | P35: =INDEX(tablap01,MATCH(F35,imputacion,0),11) -> 37.182 | Q35: =IFERROR(+P35/J35,0) -> 1 | R35: =INDEX(tablap01,MATCH(F35,imputacion,0),13) -> 0 | S35: =+IFERROR(R35/J35,"0%") -> 0 | T35: =+'Prog 01'!T34 -> 142.4842 | U35: =+'Prog 01'!U34 -> 50.490132 | V35: =IFERROR(U35/T35,0%) -> 0.35435601
E36: 6 | F36: =+CONCATENATE($B$10,"",$C$11,"",$D$33,"00",E36) -> 21.01.004.006 | G36: Comisiones de Servicios en el País | H36: =+VLOOKUP(F36,matriz01,3,FALSE) -> 4000 | I36: =+VLOOKUP(F36,matriz01,4,FALSE) -> 6860.789 | J36: =+VLOOKUP(F36,matriz01,5,FALSE) -> 5743.384 | K36: =IFERROR(J36/I36,"0%") -> 0.83713171 | L36: =INDEX(tablap01,MATCH(F36,imputacion,0),7) -> 5743.384 | M36: =+IFERROR(L36/I36,0%) -> 0.83713171 | N36: =INDEX(tablap01,MATCH(F36,imputacion,0),9) -> 1117.405 | O36: =+IFERROR(N36/I36,0%) -> 0.16286829 | P36: =INDEX(tablap01,MATCH(F36,imputacion,0),11) -> 5743.384 | Q36: =IFERROR(+P36/J36,0) -> 1 | R36: =INDEX(tablap01,MATCH(F36,imputacion,0),13) -> 0 | S36: =+IFERROR(R36/J36,"0%") -> 0 | T36: =+'Prog 01'!T35 -> 5737.9088 | U36: =+'Prog 01'!U35 -> 5588.1746 | V36: =IFERROR(U36/T36,0%) -> 0.9739044
E37: 7 | F37: =+CONCATENATE($B$10,"",$C$11,"",$D$33,"00",E37) -> 21.01.004.007 | G37: Comisiones de Servicios en el Exterior | H37: =+VLOOKUP(F37,matriz01,3,FALSE) -> 1000 | I37: =+VLOOKUP(F37,matriz01,4,FALSE) -> 1000 | J37: =+VLOOKUP(F37,matriz01,5,FALSE) -> 592.856 | K37: =IFERROR(J37/I37,"0%") -> 0.592856 | L37: =INDEX(tablap01,MATCH(F37,imputacion,0),7) -> 592.856 | M37: =+IFERROR(L37/I37,0%) -> 0.592856 | N37: =INDEX(tablap01,MATCH(F37,imputacion,0),9) -> 407.144 | O37: =+IFERROR(N37/I37,0%) -> 0.407144 | P37: =INDEX(tablap01,MATCH(F37,imputacion,0),11) -> 592.856 | Q37: =IFERROR(+P37/J37,0) -> 1 | R37: =INDEX(tablap01,MATCH(F37,imputacion,0),13) -> 0 | S37: =+IFERROR(R37/J37,"0%") -> 0 | T37: =+'Prog 01'!T36 -> 1546.5 | U37: =+'Prog 01'!U36 -> 0 | V37: =IFERROR(U37/T37,0%) -> 0
D38: 005. | G38: Remuneraciones Variables | H38: =SUM(H39:H41) -> 350 | I38: =SUM(I39:I41) -> 789.534 | J38: =SUM(J39:J41) -> 439.534 | K38: =IFERROR(J38/I38,"0%") -> 0.55670053 | L38: =SUM(L39:L41) -> 439.534 | M38: =+IFERROR(L38/I38,0%) -> 0.55670053 | N38: =SUM(N39:N41) -> 350 | O38: =+IFERROR(N38/I38,0%) -> 0.44329947 | P38: =SUM(P39:P41) -> 429.53 | Q38: =IFERROR(+P38/J38,0) -> 0.97723953 | R38: =SUM(R39:R41) -> 10.004 | S38: =+IFERROR(R38/J38,"0%") -> 0.022760469 | T38: =SUM(T39:T41) -> 1268.6981 | U38: =SUM(U39:U41) -> 799.13119 | V38: =IFERROR(U38/T38,0%) -> 0.62988287
E39: 1 | F39: =+CONCATENATE($B$10,"",$C$11,"",$D$38,"00",E39) -> 21.01.005.001 | G39: Aguinaldos | H39: =+VLOOKUP(F39,matriz01,3,FALSE) -> 0 | I39: =+VLOOKUP(F39,matriz01,4,FALSE) -> 132.109 | J39: =+VLOOKUP(F39,matriz01,5,FALSE) -> 132.109 | K39: =IFERROR(J39/I39,"0%") -> 1 | L39: =INDEX(tablap01,MATCH(F39,imputacion,0),7) -> 132.109 | M39: =+IFERROR(L39/I39,0%) -> 1 | N39: =INDEX(tablap01,MATCH(F39,imputacion,0),9) -> 0 | O39: =+IFERROR(N39/I39,0%) -> 0 | P39: =INDEX(tablap01,MATCH(F39,imputacion,0),11) -> 122.105 | Q39: =IFERROR(+P39/J39,0) -> 0.92427465 | R39: =INDEX(tablap01,MATCH(F39,imputacion,0),13) -> 10.004 | S39: =+IFERROR(R39/J39,"0%") -> 0.075725348 | T39: =+'Prog 01'!T38 -> 355.64757 | U39: =+'Prog 01'!U38 -> 218.3359 | V39: =IFERROR(U39/T39,0%) -> 0.61391084
E40: 2 | F40: =+CONCATENATE($B$10,"",$C$11,"",$D$38,"00",E40) -> 21.01.005.002 | G40: Bono de Escolaridad | H40: =+VLOOKUP(F40,matriz01,3,FALSE) -> 350 | I40: =+VLOOKUP(F40,matriz01,4,FALSE) -> 350 | J40: =+VLOOKUP(F40,matriz01,5,FALSE) -> 0 | K40: =IFERROR(J40/I40,"0%") -> 0 | L40: =INDEX(tablap01,MATCH(F40,imputacion,0),7) -> 0 | M40: =+IFERROR(L40/I40,0%) -> 0 | N40: =INDEX(tablap01,MATCH(F40,imputacion,0),9) -> 350 | O40: =+IFERROR(N40/I40,0%) -> 1 | P40: =INDEX(tablap01,MATCH(F40,imputacion,0),11) -> 0 | Q40: =IFERROR(+P40/J40,0) -> 0 | R40: =INDEX(tablap01,MATCH(F40,imputacion,0),13) -> 0 | S40: =+IFERROR(R40/J40,"0%") -> 0% | T40: =+'Prog 01'!T39 -> 357.2714 | U40: =+'Prog 01'!U39 -> 355.62077 | V40: =IFERROR(U40/T40,0%) -> 0.9953799
E41: 3 | F41: =+CONCATENATE($B$10,"",$C$11,"",$D$38,"00",E41) -> 21.01.005.003 | G41: Bonos Especiales | H41: =+VLOOKUP(F41,matriz01,3,FALSE) -> 0 | I41: =+VLOOKUP(F41,matriz01,4,FALSE) -> 307.425 | J41: =+VLOOKUP(F41,matriz01,5,FALSE) -> 307.425 | K41: =IFERROR(J41/I41,"0%") -> 1 | L41: =INDEX(tablap01,MATCH(F41,imputacion,0),7) -> 307.425 | M41: =+IFERROR(L41/I41,0%) -> 1 | N41: =INDEX(tablap01,MATCH(F41,imputacion,0),9) -> 0 | O41: =+IFERROR(N41/I41,0%) -> 0 | P41: =INDEX(tablap01,MATCH(F41,imputacion,0),11) -> 307.425 | Q41: =IFERROR(+P41/J41,0) -> 1 | R41: =INDEX(tablap01,MATCH(F41,imputacion,0),13) -> 0 | S41: =+IFERROR(R41/J41,"0%") -> 0 | T41: =+'Prog 01'!T40 -> 555.77911 | U41: =+'Prog 01'!U40 -> 225.17452 | V41: =IFERROR(U41/T41,0%) -> 0.40515111
C42: 02. | G42: Personal a Contrata | H42: =+H43+H57+H60+H65+H70 -> 18225778 | I42: =+I43+I57+I60+I65+I70 -> 17716478 | J42: =+J43+J57+J60+J65+J70 -> 13877412 | K42: =IFERROR(J42/I42,"0%") -> 0.78330537 | L42: =+L43+L57+L60+L65+L70 -> 13877412 | M42: =+IFERROR(L42/I42,0%) -> 0.78330537 | N42: =+N43+N57+N60+N65+N70 -> 3839065.6 | O42: =+IFERROR(N42/I42,0%) -> 0.21669463 | P42: =+P43+P57+P60+P65+P70 -> 13424495 | Q42: =IFERROR(+P42/J42,0) -> 0.96736299 | R42: =+R43+R57+R60+R65+R70 -> 452917.23 | S42: =+IFERROR(R42/J42,"0%") -> 0.03263701 | T42: =+T43+T57+T60+T65+T70 -> 18399545 | U42: =+U43+U57+U60+U65+U70 -> 14502527 | V42: =IFERROR(U42/T42,0%) -> 0.7882003
D43: 001. | G43: Sueldos y Sobresueldos | H43: =SUM(H44:H56) -> 15534671 | I43: =SUM(I44:I56) -> 15034246 | J43: =SUM(J44:J56) -> 11901804 | K43: =IFERROR(J43/I43,"0%") -> 0.79164617 | L43: =SUM(L44:L56) -> 11901804 | M43: =+IFERROR(L43/I43,0%) -> 0.79164617 | N43: =SUM(N44:N56) -> 3132442.8 | O43: =+IFERROR(N43/I43,0%) -> 0.20835383 | P43: =SUM(P44:P56) -> 11609820 | Q43: =IFERROR(+P43/J43,0) -> 0.97546725 | R43: =SUM(R44:R56) -> 291983.98 | S43: =+IFERROR(R43/J43,"0%") -> 0.024532751 | T43: =SUM(T44:T56) -> 15567120 | U43: =+'Prog 01'!U42 -> 12332138 | V43: =IFERROR(U43/T43,0%) -> 0.79219136
...

Sheet Prog 01
B2: SUBSECRETARIA DE DESARROLLO REGIONAL Y ADMINISTRATIVO
W3: OK | X3: SI | Y3: OK | Z3: SI | AA3: OK | AB3: SI | AC3: OK | AD3: SI | AE3: OK | AF3: SI | AG3: OK | AH3: SI | AI3: OK | AJ3: SI | AK3: OK | AL3: SI | AM3: OK | AN3: SI
B4: CONSOLIDADO POR SUBTÍTULO PROGRAMA 01
B5: CLASIFICACIÓN PRESUPUESTARIA | H5: MOVIMIENTO AÑO 2026 | T5: MOVIMIENTO AÑO 2025 | W5: ENERO | Y5: FEBRERO | AA5: MARZO | AC5: ABRIL | AE5: MAYO | AG5: JUNIO | AI5: JULIO | AK5: AGOSTO | AM5: SEPTIEMBRE | AO5: OCTUBRE | AP5: NOVIEMBRE | AQ5: DICIEMBRE
H6: [ 1 ] | I6: [ 2 ] | J6: [ 3 ] | K6: [ 3/2 ] | L6: [ 4 ] | M6: [ 4/2 ] | N6: [ 5 ] | O6: [ 5/2 ] | T6: [ 1 ] | U6: [ 2 ] | V6: [ 2/1 ] | X6: ENERO | Z6: FEBRERO | AB6: MARZO | AD6: ABRIL | AF6: MAYO | AH6: JUNIO
H7: Presupuesto Inicial 2026 M$ | I7: Presupuesto Vigente 2026 M$ | J7: Ejecución al 30/09/2026 M$ | K7: % de Ejecución 30/09/2026 M$ | L7: Presupuesto comprometido M$ | M7: % Presupuesto comprometido M$ | N7: Saldo disponible M$ | O7: % Saldo disponible | P7: Efectivo M$ | Q7: Efectivo % | R7: Deuda Flotante M$ | S7: Deuda Flotante % | T7: Presupuesto Vigente al 30/09/2025 M$ | U7: Ejecución al 30/09/2025 M$ | V7: % Ejecución al 30/09/2025 M$ | W7: GASTO AÑO 2026 | X7: GASTO AÑO 2025 | Y7: GASTO AÑO 2026 | Z7: GASTO AÑO 2025 | AA7: GASTO AÑO 2026 | AB7: GASTO AÑO 2025 | AC7: GASTO AÑO 2026 | AD7: GASTO AÑO 2025 | AE7: GASTO AÑO 2026 | AF7: GASTO AÑO 2025 | AG7: GASTO AÑO 2026 | AH7: GASTO AÑO 2025 | AI7: GASTO AÑO 2026 | AJ7: GASTO AÑO 2025 | AK7: GASTO AÑO 2026 | AL7: GASTO AÑO 2025 | AM7: GASTO AÑO 2026 | AN7: GASTO AÑO 2025 | AO7: GASTO AÑO 2025 | AP7: GASTO AÑO 2025 | AQ7: GASTO AÑO 2025
A8: Concepto Presupuestario | B8: Subt. | C8: Item. | D8: Asig. | E8: Sub | F8: ,M, | G8: CONSOLIDADO PROGRAMA 01 | H8: =+H9+H80+H157+H169+H176+H187+H150 -> 63546066 | I8: =+I9+I80+I157+I169+I176+I187+I150 -> 65168598 | J8: =+J9+J80+J157+J169+J176+J187+J150 -> 56897625 | K8: =IFERROR(J8/I8,0%) -> 0.87308346 | L8: =+L9+L80+L150+L157+L169+L176+L187+L192 -> 57582003 | M8: =+IFERROR(L8/I8,0%) -> 0.88358512 | N8: =+N9+N80+N150+N157+N169+N176+N187+N192 -> 7586594.5 | O8: =+IFERROR(N8/I8,0) -> 0.11641488 | P8: =+P9+P80+P150+P157+P169+P176+P187+P192 -> 56165147 | Q8: =+IFERROR(P8/J8,0) -> 0.98712639 | R8: =+R9+R80+R150+R157+R169+R176+R187+R192 -> 732477.55 | S8: =IFERROR(+R8/J8,0%) -> 0.012873605 | T8: =+T9+T80+T150+T157+T169+T176+T187 -> 45809434 | U8: =+U9+U80+U150+U157+U169+U176+U187 -> 38013867 | V8: =IFERROR(U8/T8,"0,00%") -> 0.82982617 | W8: =+W9+W80+W150+W157+W169+W176+W187+W192 -> 3150397.9 | X8: =+X9+X80+X150+X157+X169+X176+X187+X192 -> 4223901.5 | Y8: =+Y9+Y80+Y150+Y157+Y169+Y176+Y187+Y192 -> 2132045.4 | Z8: =+Z9+Z80+Z150+Z157+Z169+Z176+Z187+Z192 -> 4300852.3 | AA8: =+AA9+AA80+AA150+AA157+AA169+AA176+AA187+AA192 -> 9723109.5 | AB8: =+AB9+AB80+AB150+AB157+AB169+AB176+AB187+AB192 -> 10657590 | AC8: =+AC9+AC80+AC150+AC157+AC169+AC176+AC187+AC192 -> 1542865.6 | AD8: =+AD9+AD80+AD150+AD157+AD169+AD176+AD187+AD192 -> 1799243 | ... AJ8: =+AJ9+AJ80+AJ150+AJ157+AJ169+AJ176+AJ187+AJ192 -> 1914309.2 | AK8: =+AK9+AK80+AK150+AK169+AK157+AK176+AK187+AK192 -> 1567856.7 | AL8: =+AL9+AL80+AL150+AL157+AL169+AL176+AL187+AL192 -> 2188209.9 | AM8: =+AM9+AM80+AM150+AM157+AM169+AM176+AM187+AM192 -> 2670062.8 | AN8: =+AN9+AN80+AN150+AN157+AN169+AN176+AN187+AN192 -> 8184723.3 | AO8: =+AO9+AO80+AO150+AO157+AO169+AO176+AO187+AO192 -> 1642688.1 | AP8: =+AP9+AP80+AP150+AP157+AP169+AP176+AP187+AP192 -> 2713501.9 | AQ8: =+AQ9+AQ80+AQ150+AQ157+AQ169+AQ176+AQ187+AQ192 -> 6586549.5
A9: 21 GASTOS EN PERSONAL | B9: 21. | G9: GASTOS EN PERSONAL | H9: =+'P01 2026'!H3 -> 19882145 | I9: =+'P01 2026'!FB3 -> 19466574 | J9: =+J10+J41+J72 -> 14924799 | K9: =IFERROR(J9/I9,0%) -> 0.76668854 | L9: ='P01 2026'!FD3 -> 14924799 | M9: =+IFERROR(L9/I9,0%) -> 0.76668854 | N9: =I9-L9 -> 4541774.8 | O9: =+IFERROR(N9/I9,0) -> 0.23331146 | P9: =+'P01 2026'!FG3 -> 14438963 | Q9: =+IFERROR(P9/J9,0) -> 0.96744772 | R9: =+'P01 2026'!FH3 -> 485836.2 | S9: =IFERROR(+R9/J9,0%) -> 0.032552277 | T9: =+'P01 2025'!DV3 -> 20446941 | U9: =+U10+U41+U72 -> 15756488 | V9: =IFERROR(U9/T9,"0,00%") -> 0.77060368 | W9: =+'P01 2026'!I3 -> 1385883.1 | X9: =+'P01 2025'!G3 -> 1399844.5 | Y9: =+'P01 2026'!R3 -> 1496051.3 | Z9: =+'P01 2025'!N3 -> 1384807 | AA9: =+'P01 2026'!AJ3 -> 2292147.3 | AB9: =+'P01 2025'!AC3 -> 2418782.8 | AC9: =+'P01 2026'!BB3 -> 1357338.6 | AD9: =+'P01 2025'!AR3 -> 1407403.3 | AE9: =+'P01 2026'!BT3 -> 1275722.9 | AF9: =AF10+AF41+AF72 -> 1381436.8 | AG9: =+'P01 2026'!CL3 -> 2273600.4 | AH9: =+'P01 2025'!BU3 -> 2442330.2 | AI9: =+'P01 2026'!DE3 -> 1300852.7 | AJ9: =+'P01 2025'!CI3 -> 1426607.6 | AK9: =+'P01 2026'!DW3 -> 1291441.7 | AL9: =+'P01 2025'!CX3 -> 1429175.3 | AM9: =+'P01 2026'!ER3 -> 2251761.2 | AN9: =+'P01 2025'!DN3 -> 2466100.7 | AO9: =+'P01 2025'!ED3 -> 1383476.5 | AP9: =+'P01 2025'!EY3 -> 1384855.9 | AQ9: =+'P01 2025'!FR3 -> 2450213
A10: 2101 Personal de Planta | C10: 01. | G10: Personal de Planta | H10: =+'P01 2026'!H4 -> 648450 | I10: =I11+I25+I28+I32+I37 -> 651738.75 | J10: =+J11+J25+J28+J32+J37 -> 417527.04 | K10: =IFERROR(J10/I10,0%) -> 0.64063559 | L10: ='P01 2026'!FD4 -> 417527.04 | M10: =+IFERROR(L10/I10,0%) -> 0.64063559 | N10: =I10-L10 -> 234211.71 | O10: =+IFERROR(N10/I10,0) -> 0.35936441 | P10: =+'P01 2026'!FG4 -> 397231.17 | Q10: =+IFERROR(P10/J10,0) -> 0.95139029 | R10: =+'P01 2026'!FH4 -> 20295.868 | S10: =IFERROR(+R10/J10,0%) -> 0.048609709 | T10: =+'P01 2025'!DV4 -> 828278.07 | U10: =+U11+U25+U28+U32+U37 -> 510627.34 | V10: =IFERROR(U10/T10,"0,00%") -> 0.61649264 | W10: =+'P01 2026'!I4 -> 45980.004 | X10: =+'P01 2025'!G4 -> 50964.895 | Y10: =+'P01 2026'!R4 -> 47903.242 | Z10: =+'P01 2025'!N4 -> 50461.331 | AA10: =+'P01 2026'!AJ4 -> 51105.722 | AB10: =+'P01 2025'!AC4 -> 74499.922 | AC10: =+'P01 2026'!BB4 -> 51340.032 | AD10: =+'P01 2025'!AR4 -> 47895.8 | AE10: =+'P01 2026'!BT4 -> 58756.844 | AF10: =+AF11+AF25+AF28+AF32+AF37 -> 42527.391 | AG10: =+'P01 2026'!CL4 -> 56291.902 | AH10: =+'P01 2025'!BU4 -> 71870.688 | AI10: =+'P01 2026'!DE4 -> 33619.527 | AJ10: =+'P01 2025'!CI4 -> 51051.184 | AK10: =+'P01 2026'!DW4 -> 21672.539 | AL10: =+'P01 2025'!CX4 -> 47894.855 | AM10: =+'P01 2026'!ER4 -> 50857.229 | AN10: =+'P01 2025'!DN4 -> 73461.271 | AO10: =+'P01 2025'!ED4 -> 46068.384 | AP10: =+'P01 2025'!EY4 -> 41100.146 | AQ10: =+'P01 2025'!FR4 -> 68453.102
A11: 2101001 Sueldos y Sobresueldos | D11: 001. | G11: Sueldos y Sobresueldos | H11: =+'P01 2026'!H5 -> 507000 | I11: =+'P01 2026'!FB5 -> 506988.43 | J11: =SUM(J12:J24) -> 326725.13 | K11: =IFERROR(J11/I11,0%) -> 0.64444298 | L11: ='P01 2026'!FD5 -> 326725.13 | M11: =+IFERROR(L11/I11,0%) -> 0.64444298 | N11: =I11-L11 -> 180263.29 | O11: =+IFERROR(N11/I11,0) -> 0.35555702 | P11: =+'P01 2026'!FG5 -> 311318.7 | Q11: =+IFERROR(P11/J11,0) -> 0.95284588 | R11: =+'P01 2026'!FH5 -> 15406.436 | S11: =IFERROR(+R11/J11,0%) -> 0.047154119 | T11: =+'P01 2025'!DV5 -> 648488.72 | U11: =SUM(U12:U24) -> 396930.86 | V11: =IFERROR(U11/T11,"0,00%") -> 0.612086 | W11: =+'P01 2026'!I5 -> 37237.551 | X11: =+'P01 2025'!G5 -> 42051.974 | Y11: =+'P01 2026'!R5 -> 39291.659 | Z11: =+'P01 2025'!N5 -> 42051.974 | AA11: =+'P01 2026'!AJ5 -> 37245.314 | AB11: =+'P01 2025'!AC5 -> 53409.583 | AC11: =+'P01 2026'!BB5 -> 41036.064 | AD11: =+'P01 2025'!AR5 -> 38616.776 | AE11: =+'P01 2026'!BT5 -> 52523.136 | AF11: =SUM(AF12:AF24) -> 36615.667 | AG11: =+'P01 2026'!CL5 -> 40400.436 | AH11: =+'P01 2025'!BU5 -> 53564.573 | AI11: =+'P01 2026'!DE5 -> 27158.233 | AJ11: =+'P01 2025'!CI5 -> 38358.678 | AK11: =+'P01 2026'!DW5 -> 14881.224 | AL11: =+'P01 2025'!CX5 -> 38517.456 | AM11: =+'P01 2026'!ER5 -> 36951.517 | AN11: =+'P01 2025'!DN5 -> 53744.181 | AO11: =+'P01 2025'!ED5 -> 37237.551 | AP11: =+'P01 2025'!EY5 -> 34343.406 | AQ11: =+'P01 2025'!FR5 -> 49972.307
A12: 2101001001 Sueldos Bases | E12: 1 | F12: =+CONCATENATE($B$9,"",$C$10,"",$D$11,"00",E12) -> 21.01.001.001 | G12: Sueldo Bases | H12: =+'P01 2026'!H6 -> 90500 | I12: ='P01 2026'!FB6 -> 90488.427 | J12: =SUMIF(W3:$AQ$3,"ok",W12:AQ12) -> 69962.266 | K12: =IFERROR(J12/I12,0%) -> 0.77316258 | L12: ='P01 2026'!FD6 -> 69962.266 | M12: =+IFERROR(L12/I12,0%) -> 0.77316258 | N12: =I12-L12 -> 20526.161 | O12: =+IFERROR(N12/I12,0) -> 0.22683742 | P12: =+'P01 2026'!FG6 -> 67725.28 | Q12: =+IFERROR(P12/J12,0) -> 0.96802582 | R12: =+'P01 2026'!FH6 -> 2236.986 | S12: =IFERROR(+R12/J12,0%) -> 0.031974179 | T12: =+'P01 2025'!DV6 -> 119607.83 | U12: =SUMIF(W$3:$AQ$3,"SI",W12:AQ12) -> 70965.95 | V12: =IFERROR(U12/T12,"0,00%") -> 0.59332194 | W12: =+'P01 2026'!I6 -> 7521.99 | X12: =+'P01 2025'!G6 -> 8557.4835 | Y12: =+'P01 2026'!R6 -> 8130.665 | Z12: =+'P01 2025'!N6 -> 8557.4835 | AA12: =+'P01 2026'!AJ6 -> 5457.739 | AB12: =+'P01 2025'!AC6 -> 7709.9201 | AC12: =+'P01 2026'!BB6 -> 8918.523 | AD12: =+'P01 2025'!AR6 -> 7709.9201 | AE12: =+'P01 2026'!BT6 -> 28840.716 | AF12: ='P01 2025'!BF6 -> 7380.5094 | AG12: =+'P01 2026'!CL6 -> 6568.176 | AH12: =+'P01 2025'!BU6 -> 7755.1717 | AI12: =+'P01 2026'!DE6 -> 6271.48 | AJ12: =+'P01 2025'!CI6 -> 7755.1717 | AK12: =+'P01 2026'!DW6 -> -7462.305 | AL12: =+'P01 2025'!CX6 -> 7785.1181 | AM12: =+'P01 2026'!ER6 -> 5715.282 | AN12: =+'P01 2025'!DN6 -> 7755.1717 | AO12: =+'P01 2025'!ED6 -> 7521.99 | AP12: =+'P01 2025'!EY6 -> 6908.12 | AQ12: =+'P01 2025'!FR6 -> 7171.207
A13: 2101001002 Asignación de Antigüedad | E13: 2 | F13: =+CONCATENATE($B$9,"",$C$10,"",$D$11,"00",E13) -> 21.01.001.002 | G13: Asignación de Antigüedad | H13: =+'P01 2026'!H7 -> 10500 | I13: =+'P01 2026'!FB7 -> 10500 | J13: =SUMIF(W$3:$AQ3,"ok",W13:AQ13) -> 6722.188 | K13: =IFERROR(J13/I13,0%) -> 0.64020838 | L13: ='P01 2026'!FD7 -> 6722.188 | M13: =+IFERROR(L13/I13,0%) -> 0.64020838 | N13: =I13-L13 -> 3777.812 | O13: =+IFERROR(N13/I13,0) -> 0.35979162 | P13: =+'P01 2026'!FG7 -> 6613.648 | Q13: =+IFERROR(P13/J13,0) -> 0.98385347 | R13: =+'P01 2026'!FH7 -> 108.54 | S13: =IFERROR(+R13/J13,0%) -> 0.016146528 | T13: =+'P01 2025'!DV7 -> 16571.953 | U13: =SUMIF(W$3:$AQ$3,"SI",W13:AQ13) -> 8158.1587 | V13: =IFERROR(U13/T13,"0,00%") -> 0.49228711 | W13: =+'P01 2026'!I7 -> 852.615 | X13: =+'P01 2025'!G7 -> 1098.5965 | Y13: =+'P01 2026'!R7 -> 902.89 | Z13: =+'P01 2025'!N7 -> 1098.5965 | AA13: =+'P01 2026'!AJ7 -> 837.301 | AB13: =+'P01 2025'!AC7 -> 844.32714 | AC13: =+'P01 2026'!BB7 -> 835.347 | AD13: =+'P01 2025'!AR7 -> 844.32714 | AE13: =+'P01 2026'!BT7 -> 835.347 | AF13: ='P01 2025'!BF7 -> 844.32714 | AG13: =+'P01 2026'!CL7 -> 675.901 | AH13: =+'P01 2025'!BU7 -> 849.64607 | AI13: =+'P01 2026'!DE7 -> 585.011 | AJ13: =+'P01 2025'!CI7 -> 849.64607 | AK13: =+'P01 2026'!DW7 -> 590.331 | AL13: =+'P01 2025'!CX7 -> 849.64607 | AM13: =+'P01 2026'!ER7 -> 607.445 | AN13: =+'P01 2025'!DN7 -> 879.04606 | AO13: =+'P01 2025'!ED7 -> 852.615 | AP13: =+'P01 2025'!EY7 -> 840.338 | AQ13: =+'P01 2025'!FR7 -> 845.599
A14: 2101001003 Asignación Profesional | E14: 3 | F14: =+CONCATENATE($B$9,"",$C$10,"",$D$11,"00",E14) -> 21.01.001.003 | G14: Asignación Profesional | H14: =+'P01 2026'!H8 -> 66600 | I14: ='P01 2026'!FB8 -> 66600 | J14: =SUMIF(W$3:$AQ4,"ok",W14:AQ14) -> 45358.674 | K14: =IFERROR(J14/I14,0%) -> 0.68106117 | L14: ='P01 2026'!FD8 -> 45358.674 | M14: =+IFERROR(L14/I14,0%) -> 0.68106117 | N14: =I14-L14 -> 21241.326 | O14: =+IFERROR(N14/I14,0) -> 0.31893883 | P14: =+'P01 2026'!FG8 -> 43687.484 | Q14: =+IFERROR(P14/J14,0) -> 0.96315611 | R14: =+'P01 2026'!FH8 -> 1671.19 | S14: =IFERROR(+R14/J14,0%) -> 0.03684389 | T14: =+'P01 2025'!DV8 -> 87788.758 | U14: =SUMIF(W$3:$AQ$3,"SI",W14:AQ14) -> 52320.6 | V14: =IFERROR(U14/T14,"0,00%") -> 0.59598292 | W14: =+'P01 2026'!I8 -> 5536.083 | X14: =+'P01 2025'!G8 -> 6352.7014 | Y14: =+'P01 2026'!R8 -> 5832.871 | Z14: =+'P01 2025'!N8 -> 6352.7014 | AA14: =+'P01 2026'!AJ8 -> 3875.035 | AB14: =+'P01 2025'!AC8 -> 5674.6549 | AC14: =+'P01 2026'!BB8 -> 6643.691 | AD14: =+'P01 2025'!AR8 -> 5674.6549 | AE14: =+'P01 2026'!BT8 -> 5140.922 | AF14: ='P01 2025'!BF8 -> 5411.1241 | AG14: =+'P01 2026'!CL8 -> 4756.522 | AH14: =+'P01 2025'!BU8 -> 5707.7016 | AI14: =+'P01 2026'!DE8 -> 4516.876 | AJ14: =+'P01 2025'!CI8 -> 5707.7016 | AK14: =+'P01 2026'!DW8 -> 4528.337 | AL14: =+'P01 2025'!CX8 -> 5731.6589 | AM14: =+'P01 2026'!ER8 -> 4528.337 | AN14: =+'P01 2025'!DN8 -> 5707.7016 | AO14: =+'P01 2025'!ED8 -> 5536.083 | AP14: =+'P01 2025'!EY8 -> 5044.982 | AQ14: =+'P01 2025'!FR8 -> 5255.454
A15: 2101001004 Asignación de Zona | E15: 4 | F15: =+CONCATENATE($B$9,"",$C$10,"",$D$11,"00",E15) -> 21.01.001.004 | G15: Asignación de Zona | H15: 0 | I15: 0 | J15: =SUMIF(W$3:$AQ5,"ok",W15:AQ15) -> 0 | K15: =IFERROR(J15/I15,0%) -> 0 | L15: 0 | M15: =+IFERROR(L15/I15,0%) -> 0 | N15: 0 | O15: =+IFERROR(N15/I15,0) -> 0 | P15: 0 | Q15: =+IFERROR(P15/J15,0) -> 0 | R15: 0 | S15: =IFERROR(+R15/J15,0%) -> 0 | T15: =+'P01 2025'!DV9 -> 168.08908 | U15: =SUMIF(W$3:$AQ$3,"SI",W15:AQ15) -> 0 | V15: =IFERROR(U15/T15,"0,00%") -> 0 | W15: 0 | X15: =+'P01 2025'!G9 -> 0 | Y15: 0 | Z15: 0 | AA15: 0 | AB15: 0 | AC15: 0 | AD15: 0 | AE15: 0 | AF15: 0 | AG15: 0 | AH15: 0 | AI15: 0 | AJ15: 0 | AK15: 0 | AL15: 0 | AM15: 0 | AN15: 0 | AO15: 0 | AP15: 0 | AQ15: 0
A16: 2101001007 Asignaciones del DL N ° 3.551, de 1981 | E16: 7 | F16: =+CONCATENATE($B$9,"",$C$10,"",$D$11,"00",E16) -> 21.01.001.007 | G16: Asig. Del DL N° 3,551, de 1981 | H16: =+'P01 2026'!H9 -> 10300 | I16: ='P01 2026'!FB9 -> 10300 | J16: =SUMIF(W$3:$AQ6,"ok",W16:AQ16) -> 7918.302 | K16: =IFERROR(J16/I16,0%) -> 0.76876718 | L16: ='P01 2026'!FD9 -> 7918.302 | M16: =+IFERROR(L16/I16,0%) -> 0.76876718 | N16: =I16-L16 -> 2381.698 | O16: =+IFERROR(N16/I16,0) -> 0.23123282 | P16: =+'P01 2026'!FG9 -> 7704.328 | Q16: =+IFERROR(P16/J16,0) -> 0.97297729 | R16: =+'P01 2026'!FH9 -> 213.974 | S16: =IFERROR(+R16/J16,0%) -> 0.027022713 | T16: =+'P01 2025'!DV10 -> 10089.819 | U16: =SUMIF(W$3:$AQ$3,"SI",W16:AQ16) -> 7914.287 | V16: =IFERROR(U16/T16,"0,00%") -> 0.78438347 | W16: =+'P01 2026'!I9 -> 855.949 | X16: =+'P01 2025'!G10 -> 876.87065 | Y16: =+'P01 2026'!R9 -> 907.306 | Z16: =+'P01 2025'!N9 -> 876.87065 | AA16: =+'P01 2026'!AJ9 -> 873.068 | AB16: =+'P01 2025'!AC9 -> 876.87065 | AC16: =+'P01 2026'!BB9 -> 873.068 | AD16: =+'P01 2025'!AR9 -> 876.87065 | AE16: =+'P01 2026'!BT9 -> 873.068 | AF16: ='P01 2025'!BF9 -> 876.87065 | AG16: =+'P01 2026'!CL9 -> 885.291 | AH16: =+'P01 2025'!BU9 -> 882.48342 | AI16: =+'P01 2026'!DE9 -> 879.97 | AJ16: =+'P01 2025'!CI9 -> 882.48342 | AK16: =+'P01 2026'!DW9 -> 885.291 | AL16: =+'P01 2025'!CX9 -> 882.48342 | AM16: =+'P01 2026'!ER9 -> 885.291 | AN16: =+'P01 2025'!DN9 -> 882.48342 | AO16: =+'P01 2025'!ED9 -> 855.949 | AP16: =+'P01 2025'!EY9 -> 855.949 | AQ16: =+'P01 2025'!FR9 -> 855.949
A17: 2101001012 Gastos de Representación | E17: 12 | F17: =+CONCATENATE($B$9,"",$C$10,"",$D$11,"0",E17) -> 21.01.001.012 | G17: Gastos de Representación | H17: =+'P01 2026'!H10 -> 2300 | I17: ='P01 2026'!FB10 -> 2300 | J17: =SUMIF(W$3:$AQ7,"ok",W17:AQ17) -> 2107.354 | K17: =IFERROR(J17/I17,0%) -> 0.91624087 | L17: ='P01 2026'!FD10 -> 2107.354 | M17: =+IFERROR(L17/I17,0%) -> 0.91624087 | N17: =I17-L17 -> 192.646 | O17: =+IFERROR(N17/I17,0) -> 0.08375913 | P17: =+'P01 2026'!FG10 -> 2083.682 | Q17: =+IFERROR(P17/J17,0) -> 0.98876696 | R17: =+'P01 2026'!FH10 -> 23.672 | S17: =IFERROR(+R17/J17,0%) -> 0.011233044 | T17: =+'P01 2025'!DV11 -> 2293.8502 | U17: =SUMIF(W$3:$AQ$3,"SI",W17:AQ17) -> 1725.7548 | V17: =IFERROR(U17/T17,"0,00%") -> 0.75233979 | W17: =+'P01 2026'!I10 -> 185.985 | X17: =+'P01 2025'!G11 -> 191.75053 | Y17: =+'P01 2026'!R10 -> 185.985 | Z17: =+'P01 2025'!N10 -> 191.75053 | AA17: =+'P01 2026'!AJ10 -> 61.995 | AB17: =+'P01 2025'!AC10 -> 191.75053 | AC17: 0 | AD17: =+'P01 2025'!AR10 -> 191.75053 | AE17: 0 | AF17: ='P01 2025'!BF10 -> 191.75053 | AG17: 0 | AH17: =+'P01 2025'!BU10 -> 191.75053 | AI17: 0 | AJ17: =+'P01 2025'!CI10 -> 191.75053 | AK17: =+'P01 2026'!DW10 -> 1422.218 | AL17: =+'P01 2025'!CX10 -> 191.75053 | AM17: =+'P01 2026'!ER10 -> 251.171 | AN17: =+'P01 2025'!DN10 -> 191.75053 | AO17: =+'P01 2025'!ED10 -> 185.985 | AP17: =+'P01 2025'!EY10 -> 185.985 | AQ17: =+'P01 2025'!FR10 -> 185.985
A18: 2101001013 Asignación de Dirección Superior | E18: 13 | F18: =+CONCATENATE($B$9,"",$C$10,"",$D$11,"0",E18) -> 21.01.001.013 | G18: Asignación de Dirección Superior | H18: =+'P01 2026'!H11 -> 53400 | I18: ='P01 2026'!FB11 -> 53400 | J18: =SUMIF(W$3:$AQ8,"ok",W18:AQ18) -> 10175.332 | K18: =IFERROR(J18/I18,0%) -> 0.19054929 | L18: ='P01 2026'!FD11 -> 10175.332 | M18: =+IFERROR(L18/I18,0%) -> 0.19054929 | N18: =I18-L18 -> 43224.668 | O18: =+IFERROR(N18/I18,0) -> 0.80945071 | P18: =+'P01 2026'!FG11 -> 10175.332 | Q18: =+IFERROR(P18/J18,0) -> 1 | R18: =+'P01 2026'!FH11 -> 0 | S18: =IFERROR(+R18/J18,0%) -> 0 | T18: =+'P01 2025'!DV12 -> 54905.072 | U18: =SUMIF(W$3:$AQ$3,"SI",W18:AQ18) -> 41224.815 | V18: =IFERROR(U18/T18,"0,00%") -> 0.75083802 | W18: =+'P01 2026'!I11 -> 3869.143 | X18: =+'P01 2025'!G12 -> 3989.0864 | Y18: =+'P01 2026'!R11 -> 3869.143 | Z18: =+'P01 2025'!N11 -> 3989.0864 | AA18: =+'P01 2026'!AJ11 -> 2437.046 | AB18: =+'P01 2025'!AC11 -> 5763.4323 | AC18: 0 | AD18: =+'P01 2025'!AR11 -> 3989.0864 | AE18: 0 | AF18: ='P01 2025'!BF11 -> 3989.0864 | AG18: 0 | AH18: =+'P01 2025'!BU11 -> 5763.4323 | AI18: 0 | AJ18: =+'P01 2025'!CI11 -> 3989.0864 | AK18: 0 | AL18: =+'P01 2025'!CX11 -> 3989.0864 | AM18: 0 | AN18: =+'P01 2025'!DN11 -> 5763.4323 | AO18: =+'P01 2025'!ED11 -> 3869.143 | AP18: =+'P01 2025'!EY11 -> 3869.143 | AQ18: =+'P01 2025'!FR11 -> 5590.138
A19: 2101001014 Asignaciones Compensatorias | E19: 14 | F19: =+CONCATENATE($B$9,"",$C$10,"",$D$11,"0",E19) -> 21.01.001.014 | G19: Asignaciones Compensatorias | H19: =+'P01 2026'!H12 -> 61400 | I19: ='P01 2026'!FB12 -> 61400 | J19: =SUMIF(W$3:$AQ9,"ok",W19:AQ19) -> 42467.982 | K19: =IFERROR(J19/I19,0%) -> 0.69166094 | L19: ='P01 2026'!FD12 -> 42467.982 | M19: =+IFERROR(L19/I19,0%) -> 0.69166094 | N19: =I19-L19 -> 18932.018 | O19: =+IFERROR(N19/I19,0) -> 0.30833906 | P19: =+'P01 2026'!FG12 -> 40778.174 | Q19: =+IFERROR(P19/J19,0) -> 0.96020984 | R19: =+'P01 2026'!FH12 -> 1689.808 | S19: =IFERROR(+R19/J19,0%) -> 0.039790165 | T19: =+'P01 2025'!DV13 -> 80662.552 | U19: =SUMIF(W$3:$AQ$3,"SI",W19:AQ19) -> 48042.683 | V19: =IFERROR(U19/T19,"0,00%") -> 0.59560083 | W19: =+'P01 2026'!I12 -> 4816.716 | X19: =+'P01 2025'!G13 -> 5532.7058 | Y19: =+'P01 2026'!R12 -> 5085.793 | Z19: =+'P01 2025'!N12 -> 5532.7058 | AA19: =+'P01 2026'!AJ12 -> 4376.364 | AB19: =+'P01 2025'!AC12 -> 5715.6846 | AC19: =+'P01 2026'!BB10 -> 6060.379 | AD19: =+'P01 2025'!AR12 -> 4933.069 | AE19: =+'P01 2026'!BT10 -> 4532.77 | AF19: ='P01 2025'!BF12 -> 4727.2536 | AG19: =+'P01 2026'!CL10 -> 5056.357 | AH19: =+'P01 2025'!BU12 -> 5878.9012 | AI19: =+'P01 2026'!DE10 -> 3979.376 | AJ19: =+'P01 2025'!CI12 -> 4962.1968 | AK19: =+'P01 2026'!DW11 -> 3985.345 | AL19: =+'P01 2025'!CX12 -> 4980.9084 | AM19: =+'P01 2026'!ER11 -> 4574.882 | AN19: =+'P01 2025'!DN12 -> 5779.2581 | AO19: =+'P01 2025'!ED12 -> 4816.716 | AP19: =+'P01 2025'!EY12 -> 4431.567 | AQ19: =+'P01 2025'!FR12 -> 5471.812
A20: 2101001015 Asignaciones Sustitutivas | E20: 15 | F20: =+CONCATENATE($B$9,"",$C$10,"",$D$11,"0",E20) -> 21.01.001.015 | G20: Asignaciones Sustitutivas | H20: =+'P01 2026'!H13 -> 150800 | I20: ='P01 2026'!FB13 -> 150800 | J20: =SUMIF(W$3:$AQ10,"ok",W20:AQ20) -> 99573.876 | K20: =IFERROR(J20/I20,0%) -> 0.66030422 | L20: ='P01 2026'!FD13 -> 99573.876 | M20: =+IFERROR(L20/I20,0%) -> 0.66030422 | N20: =I20-L20 -> 51226.124 | O20: =+IFERROR(N20/I20,0) -> 0.33969578 | P20: =+'P01 2026'!FG13 -> 95147.517 | Q20: =+IFERROR(P20/J20,0) -> 0.95554699 | R20: =+'P01 2026'!FH13 -> 4426.359 | S20: =IFERROR(+R20/J20,0%) -> 0.044453015 | T20: =+'P01 2025'!DV14 -> 199573.37 | U20: =SUMIF(W$3:$AQ$3,"SI",W20:AQ20) -> 118523.45 | V20: =IFERROR(U20/T20,"0,00%") -> 0.59388412 | W20: =+'P01 2026'!I13 -> 12546.721 | X20: =+'P01 2025'!G14 -> 14374.708 | Y20: =+'P01 2026'!R13 -> 13194.029 | Z20: =+'P01 2025'!N13 -> 14374.708 | AA20: =+'P01 2026'!AJ13 -> 8399.877 | AB20: =+'P01 2025'!AC13 -> 12863.503 | AC20: =+'P01 2026'!BB11 -> 14734.288 | AD20: =+'P01 2025'!AR13 -> 12863.503 | AE20: =+'P01 2026'!BT11 -> 11226.916 | AF20: ='P01 2025'!BF13 -> 12248.438 | AG20: =+'P01 2026'!CL11 -> 10366.948 | AH20: =+'P01 2025'!BU13 -> 12935.669 | AI20: =+'P01 2026'!DE11 -> 9846.914 | AJ20: =+'P01 2025'!CI13 -> 12935.669 | AK20: =+'P01 2026'!DW12 -> 9843.583 | AL20: =+'P01 2025'!CX13 -> 12991.585 | AM20: =+'P01 2026'!ER12 -> 9414.6 | AN20: =+'P01 2025'!DN13 -> 12935.669 | AO20: =+'P01 2025'!ED13 -> 12546.721 | AP20: =+'P01 2025'!EY13 -> 11400.521 | AQ20: =+'P01 2025'!FR13 -> 11891.75
A21: 2101001022 Componente Base Asignación de Desempeño | E21: 22 | F21: =+CONCATENATE($B$9,"",$C$10,"",$D$11,"0",E21) -> 21.01.001.022 | G21: Componente Base Asignación de Desempeño | H21: =+'P01 2026'!H14 -> 49100 | I21: ='P01 2026'!FB14 -> 49100 | J21: =SUMIF(W$3:$AQ11,"ok",W21:AQ21) -> 32672.48 | K21: =IFERROR(J21/I21,0%) -> 0.66542729 | L21: ='P01 2026'!FD14 -> 32672.48 | M21: =+IFERROR(L21/I21,0%) -> 0.66542729 | N21: =I21-L21 -> 16427.52 | O21: =+IFERROR(N21/I21,0) -> 0.33457271 | P21: =+'P01 2026'!FG14 -> 27931.799 | Q21: =+IFERROR(P21/J21,0) -> 0.85490293 | R21: =+'P01 2026'!FH14 -> 4740.681 | S21: =IFERROR(+R21/J21,0%) -> 0.14509707 | T21: =+'P01 2025'!DV15 -> 64420.345 | U21: =SUMIF(W$3:$AQ$3,"SI",W21:AQ21) -> 38444.701 | V21: =IFERROR(U21/T21,"0,00%") -> 0.59677888 | W21: =+'P01 2026'!I14 -> 0 | X21: =+'P01 2025'!G15 -> 0 | Y21: =+'P01 2026'!R14 -> 70.291 | Z21: 0 | AA21: =+'P01 2026'!AJ14 -> 10569.091 | AB21: =+'P01 2025'!AC14 -> 12691.368 | AC21: =+'P01 2026'!BB12 -> 1145.994 | AD21: =+'P01 2025'!AR14 -> 455.52261 | AE21: 0 | AF21: 0 | AG21: =+'P01 2026'!CL12 -> 11002.817 | AH21: =+'P01 2025'!BU14 -> 12514.845 | AI21: =+'P01 2026'!DE12 -> -1.798 | AJ21: 0 | AK21: 0 | AL21: =+'P01 2025'!CX14 -> 18.26932 | AM21: =+'P01 2026'!ER13 -> 9886.085 | AN21: =+'P01 2025'!DN14 -> 12764.697 | AO21: 0 | AP21: 0 | AQ21: =+'P01 2025'!FR14 -> 11792.377
A22: 2101001039 Asignación de Responsabilidad Superior | E22: 39 | F22: =+CONCATENATE($B$9,"",$C$10,"",$D$11,"0",E22) -> 21.01.001.039 | G22: Asignación de Responsabilidad Superior | H22: =+'P01 2026'!H15 -> 12100 | I22: ='P01 2026'!FB15 -> 12100 | J22: =SUMIF(W$3:$AQ12,"ok",W22:AQ22) -> 9766.68 | K22: =IFERROR(J22/I22,0%) -> 0.80716364 | L22: ='P01 2026'!FD15 -> 9766.68 | M22: =+IFERROR(L22/I22,0%) -> 0.80716364 | N22: =I22-L22 -> 2333.32 | O22: =+IFERROR(N22/I22,0) -> 0.19283636 | P22: =+'P01 2026'!FG15 -> 9471.454 | Q22: =+IFERROR(P22/J22,0) -> 0.96977212 | R22: =+'P01 2026'!FH15 -> 295.226 | S22: =IFERROR(+R22/J22,0%) -> 0.030227877 | T22: =+'P01 2025'!DV16 -> 12407.08 | U22: =SUMIF(W$3:$AQ$3,"SI",W22:AQ22) -> 9610.4583 | V22: =IFERROR(U22/T22,"0,00%") -> 0.7745947 | W22: =+'P01 2026'!I15 -> 1052.349 | X22: =+'P01 2025'!G16 -> 1078.0713 | Y22: =+'P01 2026'!R15 -> 1112.686 | Z22: =+'P01 2025'!N14 -> 1078.0713 | AA22: =+'P01 2026'!AJ15 -> 357.798 | AB22: =+'P01 2025'!AC15 -> 1078.0713 | AC22: =+'P01 2026'!BB13 -> 1824.774 | AD22: =+'P01 2025'!AR15 -> 1078.0713 | AE22: =+'P01 2026'!BT12 -> 1073.397 | AF22: ='P01 2025'!BF14 -> 946.30747 | AG22: =+'P01 2026'!CL13 -> 1088.424 | AH22: =+'P01 2025'!BU15 -> 1084.9718 | AI22: =+'P01 2026'!DE13 -> 1080.404 | AJ22: =+'P01 2025'!CI14 -> 1084.9718 | AK22: =+'P01 2026'!DW13 -> 1088.424 | AL22: =+'P01 2025'!CX15 -> 1096.95 | AM22: =+'P01 2026'!ER14 -> 1088.424 | AN22: =+'P01 2025'!DN15 -> 1084.9718 | AO22: =+'P01 2025'!ED14 -> 1052.349 | AP22: =+'P01 2025'!EY14 -> 806.801 | AQ22: =+'P01 2025'!FR15 -> 912.036
A23: 2101001998 Aplicación inciso 5to del Artículo 1 de la Ley N° | E23: 998 | F23: =+CONCATENATE($B$9,"",$C$10,"",$D$11,"0",E23) -> 21.01.001.0998 | G23: Aplicación inciso 5to del Artículo 1 de la Ley N° | H23: 0 | I23: 0 | J23: =SUMIF(W$3:$AQ13,"ok",W23:AQ23) -> 0 | K23: =IFERROR(J23/I23,0%) -> 0 | L23: 0 | M23: =+IFERROR(L23/I23,0%) -> 0 | N23: 0 | O23: =+IFERROR(N23/I23,0) -> 0 | P23: 0 | Q23: =+IFERROR(P23/J23,0) -> 0 | R23: 0 | S23: =IFERROR(+R23/J23,0%) -> 0 | T23: 0 | U23: =SUMIF(W$3:$AQ$3,"SI",W23:AQ23) -> 0 | V23: =IFERROR(U23/T23,"0,00%") -> 0,00% | W23: 0 | X23: 0 | Y23: 0 | Z23: 0 | AA23: 0 | AB23: 0 | AC23: 0 | AD23: 0 | AE23: 0 | AF23: 0 | AG23: 0 | AH23: 0 | AI23: 0 | AJ23: 0 | AK23: 0 | AL23: 0 | AM23: 0 | AN23: 0 | AO23: 0 | AP23: 0 | AQ23: 0
A24: 2101001999 Otras Asignaciones | E24: 999 | F24: =+CONCATENATE($B$9,"",$C$10,"",$D$11,"0",E24) -> 21.01.001.0999 | G24: Otras Asignaciones | H24: 0 | I24: 0 | J24: =SUMIF(W$3:$AQ14,"ok",W24:AQ24) -> 0 | K24: =IFERROR(J24/I24,0%) -> 0 | L24: 0 | M24: =+IFERROR(L24/I24,0%) -> 0 | N24: 0 | O24: =+IFERROR(N24/I24,0) -> 0 | P24: 0 | Q24: =+IFERROR(P24/J24,0) -> 0 | R24: 0 | S24: =IFERROR(+R24/J24,0%) -> 0 | T24: 0 | U24: =SUMIF(W$3:$AQ$3,"SI",W24:AQ24) -> 0 | V24: =IFERROR(U24/T24,"0,00%") -> 0,00% | W24: 0 | X24: 0 | Y24: 0 | Z24: 0 | AA24: 0 | AB24: 0 | AC24: 0 | AD24: 0 | AE24: 0 | AF24: 0 | AG24: 0 | AH24: 0 | AI24: 0 | AJ24: 0 | AK24: 0 | AL24: 0 | AM24: 0 | AN24: 0 | AO24: 0 | AP24: 0 | AQ24: 0
A25: 2101002 Aportes del Empleador | D25: 002. | G25: Aportes del Empleador | H25: =+'P01 2026'!H16 -> 15300 | I25: =+'P01 2026'!FB16 -> 15300 | J25: =SUMIF(W$3:$AQ17,"ok",W25:AQ25) -> 11372.291 | K25: =IFERROR(J25/I25,0%) -> 0.74328699 | L25: ='P01 2026'!FD16 -> 11372.291 | M25: =+IFERROR(L25/I25,0%) -> 0.74328699 | N25: =I25-L25 -> 3927.709 | O25: =+IFERROR(N25/I25,0) -> 0.25671301 | P25: =+'P01 2026'!FG16 -> 10949.895 | Q25: =+IFERROR(P25/J25,0) -> 0.96285744 | R25: =+'P01 2026'!FH16 -> 422.396 | S25: =IFERROR(+R25/J25,0%) -> 0.03714256 | T25: =+'P01 2025'!DV17 -> 20146.091 | U25: =SUMIF(W$3:$AQ$3,"SI",W25:AQ25) -> 12005.652 | V25: =IFERROR(U25/T25,"0,00%") -> 0.5959296 | W25: =+'P01 2026'!I16 -> 1261.571 | X25: =+'P01 2025'!G17 -> 1375.3736 | Y25: =+'P01 2026'!R16 -> 1056.706 | Z25: =+'P01 2025'!N15 -> 1138.4271 | AA25: =+'P01 2026'!AJ16 -> 1237.798 | AB25: =+'P01 2025'!AC16 -> 1424.4801 | AC25: =+'P01 2026'!BB14 -> 1356.19 | AD25: =+'P01 2025'!AR16 -> 1268.6537 | AE25: =+'P01 2026'!BT13 -> 1716.461 | AF25: =SUM(AF26:AF27) -> 1118.4412 | AG25: =+'P01 2026'!CL14 -> 1475.503 | AH25: =+'P01 2025'!BU16 -> 1513.6297 | AI25: =+'P01 2026'!DE14 -> 1077.763 | AJ25: =+'P01 2025'!CI15 -> 1295.467 | AK25: =+'P01 2026'!DW14 -> 948.002 | AL25: =+'P01 2025'!CX16 -> 1523.2479 | AM25: =+'P01 2026'!ER15 -> 1242.297 | AN25: =+'P01 2025'!DN16 -> 1347.9315 | AO25: =+'P01 2025'!ED15 -> 1227.617 | AP25: =+'P01 2025'!EY15 -> 1140.43 | AQ25: =+'P01 2025'!FR16 -> 1334.381
A26: 2101002001 A Servicios de Bienestar | E26: 1 | F26: =+CONCATENATE($B$9,"",$C$10,"",$D$25,"00",E26) -> 21.01.002.001 | G26: A Servicios de Bienestar | H26: =+'P01 2026'!H17 -> 1300 | I26: =+'P01 2026'!FB17 -> 1300 | J26: =SUMIF(W$3:$AQ18,"ok",W26:AQ26) -> 828.072 | K26: =IFERROR(J26/I26,0%) -> 0.63697846 | L26: ='P01 2026'!FD17 -> 828.072 | M26: =+IFERROR(L26/I26,0%) -> 0.63697846 | N26: =I26-L26 -> 471.928 | O26: =+IFERROR(N26/I26,0) -> 0.36302154 | P26: =+'P01 2026'!FG17 -> 718.704 | Q26: =+IFERROR(P26/J26,0) -> 0.86792453 | R26: =+'P01 2026'!FH17 -> 109.368 | S26: =IFERROR(+R26/J26,0%) -> 0.13207547 | T26: =+'P01 2025'!DV18 -> 1719.3111 | U26: =SUMIF(W$3:$AQ$3,"SI",W26:AQ26) -> 975.78892 | V26: =IFERROR(U26/T26,"0,00%") -> 0.56754647 | W26: =+'P01 2026'!I17 -> 0 | X26: =+'P01 2025'!G18 -> 134.55478 | Y26: 0 | Z26: 0 | AA26: =+'P01 2026'!AJ17 -> 187.488 | AB26: =+'P01 2025'!AC17 -> 249.25456 | AC26: 0 | AD26: =+'P01 2025'!AR17 -> 109.04887 | AE26: 0 | AF26: 0 | AG26: =+'P01 2026'!CL15 -> 312.48 | AH26: =+'P01 2025'!BU17 -> 202.51933 | AI26: 0 | AJ26: =+'P01 2025'!CI16 -> 93.47046 | AK26: =+'P01 2026'!DW15 -> 218.736 | AL26: =+'P01 2025'!CX17 -> 93.47046 | AM26: =+'P01 2026'!ER16 -> 109.368 | AN26: =+'P01 2025'!DN17 -> 93.47046 | AO26: 0 | AP26: =+'P01 2025'!EY16 -> 181.32 | AQ26: =+'P01 2025'!FR17 -> 181.32
A27: 2101002002 Otras Cotizaciones Previsionales | E27: 2 | F27: =+CONCATENATE($B$9,"",$C$10,"",$D$25,"00",E27) -> 21.01.002.002 | G27: Otras Cotizaciones Previsionales | H27: =+'P01 2026'!H18 -> 14000 | I27: =+'P01 2026'!FB18 -> 14000 | J27: =SUMIF(W$3:$AQ19,"ok",W27:AQ27) -> 10544.219 | K27: =IFERROR(J27/I27,0%) -> 0.7531585 | L27: ='P01 2026'!FD18 -> 10544.219 | M27: =+IFERROR(L27/I27,0%) -> 0.7531585 | N27: =I27-L27 -> 3455.781 | O27: =+IFERROR(N27/I27,0) -> 0.2468415 | P27: =+'P01 2026'!FG18 -> 10231.191 | Q27: =+IFERROR(P27/J27,0) -> 0.97031283 | R27: =+'P01 2026'!FH18 -> 313.028 | S27: =IFERROR(+R27/J27,0%) -> 0.029687168 | T27: =+'P01 2025'!DV19 -> 18426.779 | U27: =SUMIF(W$3:$AQ$3,"SI",W27:AQ27) -> 11029.863 | V27: =IFERROR(U27/T27,"0,00%") -> 0.59857789 | W27: =+'P01 2026'!I18 -> 1261.571 | X27: =+'P01 2025'!G19 -> 1240.8188 | Y27: =+'P01 2026'!R17 -> 1056.706 | Z27: =+'P01 2025'!N16 -> 1138.4271 | AA27: =+'P01 2026'!AJ18 -> 1050.31 | AB27: =+'P01 2025'!AC18 -> 1175.2256 | AC27: =+'P01 2026'!BB15 -> 1356.19 | AD27: =+'P01 2025'!AR18 -> 1159.6049 | AE27: =+'P01 2026'!BT14 -> 1716.461 | AF27: ='P01 2025'!BF16 -> 1118.4412 | AG27: =+'P01 2026'!CL16 -> 1163.023 | AH27: =+'P01 2025'!BU18 -> 1311.1103 | AI27: =+'P01 2026'!DE15 -> 1077.763 | AJ27: =+'P01 2025'!CI17 -> 1201.9965 | AK27: =+'P01 2026'!DW16 -> 729.266 | AL27: =+'P01 2025'!CX18 -> 1429.7774 | AM27: =+'P01 2026'!ER17 -> 1132.929 | AN27: =+'P01 2025'!DN18 -> 1254.461 | AO27: =+'P01 2025'!ED16 -> 1227.617 | AP27: =+'P01 2025'!EY17 -> 959.11 | AQ27: =+'P01 2025'!FR18 -> 1153.061
